BEGIN:VCALENDAR
VERSION:2.0
PRODID:-//GrassROOTS Community Foundation - ECPv6.15.20//NONSGML v1.0//EN
CALSCALE:GREGORIAN
METHOD:PUBLISH
X-ORIGINAL-URL:https://grassrootscommunityfoundation.org
X-WR-CALDESC:Events for GrassROOTS Community Foundation
REFRESH-INTERVAL;VALUE=DURATION:PT1H
X-Robots-Tag:noindex
X-PUBLISHED-TTL:PT1H
BEGIN:VTIMEZONE
TZID:America/New_York
BEGIN:DAYLIGHT
TZOFFSETFROM:-0500
TZOFFSETTO:-0400
TZNAME:EDT
DTSTART:20230312T070000
END:DAYLIGHT
BEGIN:STANDARD
TZOFFSETFROM:-0400
TZOFFSETTO:-0500
TZNAME:EST
DTSTART:20231105T060000
END:STANDARD
BEGIN:DAYLIGHT
TZOFFSETFROM:-0500
TZOFFSETTO:-0400
TZNAME:EDT
DTSTART:20240310T070000
END:DAYLIGHT
BEGIN:STANDARD
TZOFFSETFROM:-0400
TZOFFSETTO:-0500
TZNAME:EST
DTSTART:20241103T060000
END:STANDARD
BEGIN:DAYLIGHT
TZOFFSETFROM:-0500
TZOFFSETTO:-0400
TZNAME:EDT
DTSTART:20250309T070000
END:DAYLIGHT
BEGIN:STANDARD
TZOFFSETFROM:-0400
TZOFFSETTO:-0500
TZNAME:EST
DTSTART:20251102T060000
END:STANDARD
END:VTIMEZONE
BEGIN:VEVENT
DTSTART;TZID=America/New_York:20241109T110000
DTEND;TZID=America/New_York:20241109T140000
DTSTAMP:20260423T070135
CREATED:20241108T023504Z
LAST-MODIFIED:20241108T025021Z
UID:10549-1731150000-1731160800@grassrootscommunityfoundation.org
SUMMARY:Give Thanks for Girls Benefit Brunch
DESCRIPTION:Join us and Newark Symphony Hall for the Give Thanks for Girls Benefit Brunch on November 9th\, from 11:00 AM to 2:00 PM at the historic Newark Symphony Hall\, 1020 Broad St\, Newark\, NJ 07102. \nThe keynote features Dr. Melissa Harris-Perry\, Maya Angelou Presidential Chair at Wake Forest University in the Department of Politics and International Affairs and Director of the Anna Julia Cooper Center\, in conversation with Marley Dias\, founder of the #1000BlackGirlBooks campaign. Together\, they will discuss the theme: “Why We Must Invest in Girls.” \nWe will also celebrate community changemakers\, including: \n\nAmina Anekwe\, a junior at New York University\, honored for her work in advancing menstrual equity.\nAugust Daniels and Jacsyn Scott\, recognized for promoting freedom and education through their leadership of GrassROOTS’ Banned Book Club.\nOlivia Raymond\, a first-year student at Brown University\, for her work in drafting legislation focused on mental wellness.\n\nWhy We Must Invest in Girls \n\nMenstrual Equity: Research highlights that 1 in 5 girls in the U.S. misses school due to a lack of menstrual products (Girls Helping Girls Period\, 2023).\nMental Health: Suicide rates for Black women and girls aged 15 to 24 have more than doubled over the past two decades\, underscoring an urgent need for mental health resources and supportive environments (Bridge et al.\, 2021).\nCensorship and Representation: The increase in censorship of books by Black women authors and featuring Black girl protagonists has deprived youth of diverse voices and mirrors of their own experiences\, which are critical to self-identity and empowerment (American Library Association\, 2023).\n\nThe Give Thanks for Girls Benefit Brunch is a celebration of Black girlhood and excellence\, honoring Black girls who lead change in their communities through service\, courage\, and impact. These young changemakers inspire the next generation of leaders and make a difference now. \n“When a girl is empowered\, her entire community thrives.” – United Nations \nJoin Us Today \nGrab a ticket and celebrate the power of girls! Sponsorship opportunities are also available. Email president@grassrootscommunityfoundation.org to learn how you can support girls’ success in the U.S. and across the globe. \n  \nGIVE THANKS EVENT REGISTRATION
URL:https://grassrootscommunityfoundation.org/event/give-thanks-for-girls-benefit-brunch/
LOCATION:Florida
CATEGORIES:Events
ATTACH;FMTTYPE=image/jpeg:https://grassrootscommunityfoundation.org/wp-content/uploads/2024/11/GiveThanksBrunch2024_2.jpg
END:VEVENT
END:VCALENDAR