BEGIN:VCALENDAR
VERSION:2.0
PRODID:-//GrassROOTS Community Foundation - ECPv6.15.20//NONSGML v1.0//EN
CALSCALE:GREGORIAN
METHOD:PUBLISH
X-ORIGINAL-URL:https://grassrootscommunityfoundation.org
X-WR-CALDESC:Events for GrassROOTS Community Foundation
REFRESH-INTERVAL;VALUE=DURATION:PT1H
X-Robots-Tag:noindex
X-PUBLISHED-TTL:PT1H
BEGIN:VTIMEZONE
TZID:America/New_York
BEGIN:DAYLIGHT
TZOFFSETFROM:-0500
TZOFFSETTO:-0400
TZNAME:EDT
DTSTART:20200308T070000
END:DAYLIGHT
BEGIN:STANDARD
TZOFFSETFROM:-0400
TZOFFSETTO:-0500
TZNAME:EST
DTSTART:20201101T060000
END:STANDARD
BEGIN:DAYLIGHT
TZOFFSETFROM:-0500
TZOFFSETTO:-0400
TZNAME:EDT
DTSTART:20210314T070000
END:DAYLIGHT
BEGIN:STANDARD
TZOFFSETFROM:-0400
TZOFFSETTO:-0500
TZNAME:EST
DTSTART:20211107T060000
END:STANDARD
BEGIN:DAYLIGHT
TZOFFSETFROM:-0500
TZOFFSETTO:-0400
TZNAME:EDT
DTSTART:20220313T070000
END:DAYLIGHT
BEGIN:STANDARD
TZOFFSETFROM:-0400
TZOFFSETTO:-0500
TZNAME:EST
DTSTART:20221106T060000
END:STANDARD
END:VTIMEZONE
BEGIN:VEVENT
DTSTART;VALUE=DATE:20210302
DTEND;VALUE=DATE:20210303
DTSTAMP:20260422T070102
CREATED:20210302T012339Z
LAST-MODIFIED:20210302T012352Z
UID:9395-1614643200-1614729599@grassrootscommunityfoundation.org
SUMMARY:Dr. Janice Johnson Dias’s New Book: Parent Like It Matters
DESCRIPTION:Parent Like It Matters: How to Raise Joyful Changemaking Girls is an accessible blueprint to embolden our daughters to be critical thinkers and problem-solvers. Published by Ballantine Books\, an imprint of RandomHouse. \n  \nBook launch on March 2\, 2021 \n  \nParent Like It Matters Book
URL:https://grassrootscommunityfoundation.org/event/dr-janice-johnson-diass-new-book-parent-like-it-matters/
LOCATION:Florida
ATTACH;FMTTYPE=image/jpeg:https://grassrootscommunityfoundation.org/wp-content/uploads/2021/03/JaniceBookLaunch-post.jpg
END:VEVENT
BEGIN:VEVENT
DTSTART;TZID=America/New_York:20210308T153000
DTEND;TZID=America/New_York:20210308T163000
DTSTAMP:20260422T070102
CREATED:20210302T010543Z
LAST-MODIFIED:20210302T010641Z
UID:9385-1615217400-1615221000@grassrootscommunityfoundation.org
SUMMARY:Virtual Workshop: The Science of Our Bodies
DESCRIPTION:On International Women’s Day\, join Dr. Jsahna Simmons in a conversation with author and activist\, Shelly-Ann Weeks as they discuss the science of our bodies and the gift of periods. \n  \nTo register for Zoom\, Email EMBRACEHERFLOW@GMAIL.COM
URL:https://grassrootscommunityfoundation.org/event/virtual-workshop-the-science-of-our-bodies/
LOCATION:Florida
CATEGORIES:Events
ATTACH;FMTTYPE=image/jpeg:https://grassrootscommunityfoundation.org/wp-content/uploads/2021/03/The-science-of-our-bodies-3-8-21.jpg
END:VEVENT
BEGIN:VEVENT
DTSTART;TZID=America/New_York:20210312T153000
DTEND;TZID=America/New_York:20210312T163000
DTSTAMP:20260422T070102
CREATED:20210302T011400Z
LAST-MODIFIED:20210302T011400Z
UID:9389-1615563000-1615566600@grassrootscommunityfoundation.org
SUMMARY:Virtual Workshop: The Lived Experience of Periods
DESCRIPTION:Join author and activist\, Shelly-Ann Weeks as she hosts a conversation with youth about the role of stigma in access to resources. \n  \nTo register for Zoom\, Email EMBRACEHERFLOW@GMAIL.COM \n  \n#EndPeriodShame
URL:https://grassrootscommunityfoundation.org/event/virtual-workshop-the-lived-experience-of-periods/
LOCATION:Florida
CATEGORIES:Events
ATTACH;FMTTYPE=image/jpeg:https://grassrootscommunityfoundation.org/wp-content/uploads/2021/03/The-Lived-Experience-of-Periods-3-12-21.jpg
END:VEVENT
BEGIN:VEVENT
DTSTART;TZID=America/New_York:20210318T193000
DTEND;TZID=America/New_York:20210318T210000
DTSTAMP:20260422T070102
CREATED:20210317T214126Z
LAST-MODIFIED:20210317T214156Z
UID:9428-1616095800-1616101200@grassrootscommunityfoundation.org
SUMMARY:1 Year Anniversary of Club Quarantine
DESCRIPTION:To celebrate the 1 Year Anniversary of Club Quarantine\, we’re hosting a Club Quarantine Appreciation IG Live Rooms with D-Nice and Adam Mosseri\, the Head of Instagram\, to celebrate how D-Nice used music and healing to bring the world together and highlight D-Nice’s upcoming Club Quarantine IG LIve the weekend of 3/19. The IG Live Rooms will also have a IG Live fundraiser component for the GrassROOTS Community Foundation @grassrootsfound \n  \nIG Live Rooms: Adam w/ D-Nice & Friends —Javicia Leslie (Batwoman) and Marley Dias (#Founder of #1000BlackGirlBooks) \nDate/Time: Thursday\, March 18 @ 4:30 PM PT/ 7:30 PM ET \nHost: Adam Mosseri @mosseri 
URL:https://grassrootscommunityfoundation.org/event/1-year-anniversary-of-club-quarantine/
LOCATION:Florida
CATEGORIES:Virtual Event
ATTACH;FMTTYPE=image/png:https://grassrootscommunityfoundation.org/wp-content/uploads/2021/03/3-17-21-instagram-live-show2-01.png
END:VEVENT
END:VCALENDAR