BEGIN:VCALENDAR
VERSION:2.0
PRODID:-//GrassROOTS Community Foundation - ECPv6.15.20//NONSGML v1.0//EN
CALSCALE:GREGORIAN
METHOD:PUBLISH
X-WR-CALNAME:GrassROOTS Community Foundation
X-ORIGINAL-URL:https://grassrootscommunityfoundation.org
X-WR-CALDESC:Events for GrassROOTS Community Foundation
REFRESH-INTERVAL;VALUE=DURATION:PT1H
X-Robots-Tag:noindex
X-PUBLISHED-TTL:PT1H
BEGIN:VTIMEZONE
TZID:America/New_York
BEGIN:DAYLIGHT
TZOFFSETFROM:-0500
TZOFFSETTO:-0400
TZNAME:EDT
DTSTART:20160313T070000
END:DAYLIGHT
BEGIN:STANDARD
TZOFFSETFROM:-0400
TZOFFSETTO:-0500
TZNAME:EST
DTSTART:20161106T060000
END:STANDARD
BEGIN:DAYLIGHT
TZOFFSETFROM:-0500
TZOFFSETTO:-0400
TZNAME:EDT
DTSTART:20170312T070000
END:DAYLIGHT
BEGIN:STANDARD
TZOFFSETFROM:-0400
TZOFFSETTO:-0500
TZNAME:EST
DTSTART:20171105T060000
END:STANDARD
BEGIN:DAYLIGHT
TZOFFSETFROM:-0500
TZOFFSETTO:-0400
TZNAME:EDT
DTSTART:20180311T070000
END:DAYLIGHT
BEGIN:STANDARD
TZOFFSETFROM:-0400
TZOFFSETTO:-0500
TZNAME:EST
DTSTART:20181104T060000
END:STANDARD
END:VTIMEZONE
BEGIN:VEVENT
DTSTART;TZID=America/New_York:20171118T110000
DTEND;TZID=America/New_York:20171118T130000
DTSTAMP:20260421T194347
CREATED:20171020T200544Z
LAST-MODIFIED:20171026T212918Z
UID:6574-1511002800-1511010000@grassrootscommunityfoundation.org
SUMMARY:2017 GIRLS SUMMIT
DESCRIPTION:[vc_row][vc_column width=”1/2″][vc_column_text][/vc_column_text][/vc_column][vc_column width=”1/2″][vc_column_text font_size=”20″]Before the Give Thanks for Girls Benefit Gala join Black Girl Excellence Award Honorees Marsai Martin\, Haile Thomas\, and Mikaila Ulmer and their parents for an intimate conversation with girls about how to unlock and support girls’ passions to help them achieve success. \nGirls plenary moderated by Marley Dias\, author and founder of #1000BlackGirlBooks \nCaregivers plenary moderated by Icema Gibbs\, Director of Corporate Social Responsibility\, JetBlue \n[/vc_column_text][/vc_column][/vc_row][vc_row][vc_column][vc_empty_space height=”28px”][vc_column_text font_size=”20″]Participants will be able to ask to questions of the national honorees and their parents to get the answers they need to help them achieve their individual goals. \nAn adult caregiver must accompany each girl. This person does not have to be a bio-parent. Each girl\, however\, should bring a caring adult who is invested in her personal well-being and success. \nWe look forward to helping you get the information you need to unlook your passions and achieve success.[/vc_column_text][vc_empty_space]Register [/vc_column][/vc_row]
URL:https://grassrootscommunityfoundation.org/event/2017-girls-summit/
LOCATION:Robert Treat Hotel\, 50 Park Pl\, Newark\, NJ\, 07102\, United States
CATEGORIES:Events
ATTACH;FMTTYPE=image/png:https://grassrootscommunityfoundation.org/wp-content/uploads/2017/10/2017-girls-summit-8.5x11-print-d7.png
END:VEVENT
BEGIN:VEVENT
DTSTART;TZID=America/New_York:20171118T190000
DTEND;TZID=America/New_York:20171118T230000
DTSTAMP:20260421T194347
CREATED:20171009T183247Z
LAST-MODIFIED:20171026T183033Z
UID:6425-1511031600-1511046000@grassrootscommunityfoundation.org
SUMMARY:Give Thanks For Girls Gala
DESCRIPTION:The purpose of the Give Thanks for Girls Benefit Gala  honors black girls who have demonstrated through their actions in the community high levels of integrity\, academic excellence and ingenuity. \n  \nProceeds from the event goes to supporting the GrassROOTS Community Foundation efforts in developing girl changemakers. \n  \nThis year’s national honorees are: Marsai Martin of ABC’s Black-ish;\, Haile Thomas\, The Happy Organization and Mikaila Ulmer\, Me and The Bees Lemonade. \n  \nThe 2017 GIVE THANKS for Girls Benefit Gala is being held at the historic Robert Treat Hotel in Newark\, New Jersey. All guests will be provided with complimentary valet and coat check service upon arrival. \n  \n7:00-8:30pm – MYX & Mingle VIP Cocktail Reception \nHost: Mona Scott-Young\, CEO of Monami Entertainment \nThe reception provides a perfect networking opportunity to mix and mingle with entertainment industry professionals\, government officials\, GCF supporters and other influencers.  Confirmed guests include Mayor Ras J. Baraka of Newark and Michellene Davis\, Vice President of Executive Vice President and Chief Corporate Affairs Officer RWJBarnabas. \n  \nCocktails courtesy of MYX fusions Moscato & Sangria. Live jazz by the Enoch Smith Jr. Band. \n  \n9:00-11:00pm – Dinner and Award Presentation Ceremony  \nDuring your 4-course seated dinner and cocktails\, guests  will enjoy the beautiful sounds of by the Enoch Smith Jr. Band as well as an African drum and dance performance and presentation by our GrassROOTS SuperGirls. Following the award presentations\, DJ Scotty Nevers will keep us on the dance floor all night. \n  \nCORPORATE AND INDIVIDUAL SPONSORSHIPS ARE AVAILABLE: Contact Lisa Rediker at Skai Blue Media\, lisa@skaibluemedia.com \n  \nPURCHASE TICKETS HERE
URL:https://grassrootscommunityfoundation.org/event/save-the-date-give-thanks-for-girls-gala/
LOCATION:Robert Treat Hotel\, 50 Park Pl\, Newark\, NJ\, 07102\, United States
CATEGORIES:Events
ATTACH;FMTTYPE=image/jpeg:https://grassrootscommunityfoundation.org/wp-content/uploads/2017/10/givethanks-2017.jpg
END:VEVENT
END:VCALENDAR